BEGIN:VCALENDAR
VERSION:2.0
PRODID:-// - ECPv6.15.20//NONSGML v1.0//EN
CALSCALE:GREGORIAN
METHOD:PUBLISH
X-ORIGINAL-URL:https://44andking.com
X-WR-CALDESC:Events for 
REFRESH-INTERVAL;VALUE=DURATION:PT1H
X-Robots-Tag:noindex
X-PUBLISHED-TTL:PT1H
BEGIN:VTIMEZONE
TZID:America/New_York
BEGIN:DAYLIGHT
TZOFFSETFROM:-0500
TZOFFSETTO:-0400
TZNAME:EDT
DTSTART:20250309T070000
END:DAYLIGHT
BEGIN:STANDARD
TZOFFSETFROM:-0400
TZOFFSETTO:-0500
TZNAME:EST
DTSTART:20251102T060000
END:STANDARD
BEGIN:DAYLIGHT
TZOFFSETFROM:-0500
TZOFFSETTO:-0400
TZNAME:EDT
DTSTART:20260308T070000
END:DAYLIGHT
BEGIN:STANDARD
TZOFFSETFROM:-0400
TZOFFSETTO:-0500
TZNAME:EST
DTSTART:20261101T060000
END:STANDARD
BEGIN:DAYLIGHT
TZOFFSETFROM:-0500
TZOFFSETTO:-0400
TZNAME:EDT
DTSTART:20270314T070000
END:DAYLIGHT
BEGIN:STANDARD
TZOFFSETFROM:-0400
TZOFFSETTO:-0500
TZNAME:EST
DTSTART:20271107T060000
END:STANDARD
END:VTIMEZONE
BEGIN:VEVENT
DTSTART;TZID=America/New_York:20260121T173000
DTEND;TZID=America/New_York:20260121T203000
DTSTAMP:20260420T040419
CREATED:20260113T190854Z
LAST-MODIFIED:20260113T191606Z
UID:10001041-1769016600-1769027400@44andking.com
SUMMARY:Kevin Shiels
DESCRIPTION:
URL:https://44andking.com/event/kevin-shiels/2026-01-21/
LOCATION:44 & King\, 515 44th Ave N.\, Myrtle Beach\, SC\, 29577\, United States
CATEGORIES:Live Music
END:VEVENT
BEGIN:VEVENT
DTSTART;TZID=America/New_York:20260122T173000
DTEND;TZID=America/New_York:20260122T203000
DTSTAMP:20260420T040420
CREATED:20260113T191322Z
LAST-MODIFIED:20260113T191614Z
UID:10001095-1769103000-1769113800@44andking.com
SUMMARY:Matthew Cockfield
DESCRIPTION:
URL:https://44andking.com/event/matthew-cockfield-2/2026-01-22/
LOCATION:44 & King\, 515 44th Ave N.\, Myrtle Beach\, SC\, 29577\, United States
CATEGORIES:Live Music
END:VEVENT
BEGIN:VEVENT
DTSTART;TZID=America/New_York:20260123T173000
DTEND;TZID=America/New_York:20260123T203000
DTSTAMP:20260420T040420
CREATED:20260113T191457Z
LAST-MODIFIED:20260113T191457Z
UID:10001151-1769189400-1769200200@44andking.com
SUMMARY:Sydney Gifford
DESCRIPTION:
URL:https://44andking.com/event/sydney-gifford-2/2026-01-23/
LOCATION:44 & King\, 515 44th Ave N.\, Myrtle Beach\, SC\, 29577\, United States
CATEGORIES:Live Music
END:VEVENT
BEGIN:VEVENT
DTSTART;TZID=America/New_York:20260124T173000
DTEND;TZID=America/New_York:20260124T203000
DTSTAMP:20260420T040420
CREATED:20260113T191535Z
LAST-MODIFIED:20260113T191535Z
UID:10001154-1769275800-1769286600@44andking.com
SUMMARY:Millie Davis
DESCRIPTION:
URL:https://44andking.com/event/millie-davis/
LOCATION:SC
CATEGORIES:Live Music
END:VEVENT
BEGIN:VEVENT
DTSTART;TZID=America/New_York:20260125T173000
DTEND;TZID=America/New_York:20260125T203000
DTSTAMP:20260420T040420
CREATED:20260113T191457Z
LAST-MODIFIED:20260113T191457Z
UID:10001152-1769362200-1769373000@44andking.com
SUMMARY:Sydney Gifford
DESCRIPTION:
URL:https://44andking.com/event/sydney-gifford-2/2026-01-25/
LOCATION:44 & King\, 515 44th Ave N.\, Myrtle Beach\, SC\, 29577\, United States
CATEGORIES:Live Music
END:VEVENT
BEGIN:VEVENT
DTSTART;TZID=America/New_York:20260127T173000
DTEND;TZID=America/New_York:20260127T203000
DTSTAMP:20260420T040420
CREATED:20260113T190636Z
LAST-MODIFIED:20260113T191558Z
UID:10000988-1769535000-1769545800@44andking.com
SUMMARY:Taniya Boatwright
DESCRIPTION:
URL:https://44andking.com/event/taniya-boatwright-2/2026-01-27/
LOCATION:44 & King\, 515 44th Ave N.\, Myrtle Beach\, SC\, 29577\, United States
CATEGORIES:Live Music
END:VEVENT
BEGIN:VEVENT
DTSTART;TZID=America/New_York:20260128T173000
DTEND;TZID=America/New_York:20260128T203000
DTSTAMP:20260420T040420
CREATED:20260113T190854Z
LAST-MODIFIED:20260113T191606Z
UID:10001042-1769621400-1769632200@44andking.com
SUMMARY:Kevin Shiels
DESCRIPTION:
URL:https://44andking.com/event/kevin-shiels/2026-01-28/
LOCATION:44 & King\, 515 44th Ave N.\, Myrtle Beach\, SC\, 29577\, United States
CATEGORIES:Live Music
END:VEVENT
BEGIN:VEVENT
DTSTART;TZID=America/New_York:20260129T173000
DTEND;TZID=America/New_York:20260129T203000
DTSTAMP:20260420T040420
CREATED:20260113T191322Z
LAST-MODIFIED:20260113T191614Z
UID:10001096-1769707800-1769718600@44andking.com
SUMMARY:Matthew Cockfield
DESCRIPTION:
URL:https://44andking.com/event/matthew-cockfield-2/2026-01-29/
LOCATION:44 & King\, 515 44th Ave N.\, Myrtle Beach\, SC\, 29577\, United States
CATEGORIES:Live Music
END:VEVENT
BEGIN:VEVENT
DTSTART;TZID=America/New_York:20260130T173000
DTEND;TZID=America/New_York:20260130T203000
DTSTAMP:20260420T040420
CREATED:20260113T191457Z
LAST-MODIFIED:20260113T191457Z
UID:10001153-1769794200-1769805000@44andking.com
SUMMARY:Sydney Gifford
DESCRIPTION:
URL:https://44andking.com/event/sydney-gifford-2/2026-01-30/
LOCATION:44 & King\, 515 44th Ave N.\, Myrtle Beach\, SC\, 29577\, United States
CATEGORIES:Live Music
END:VEVENT
BEGIN:VEVENT
DTSTART;TZID=America/New_York:20260131T173000
DTEND;TZID=America/New_York:20260131T203000
DTSTAMP:20260420T040420
CREATED:20260113T191658Z
LAST-MODIFIED:20260113T191658Z
UID:10001156-1769880600-1769891400@44andking.com
SUMMARY:Angie Harrison
DESCRIPTION:
URL:https://44andking.com/event/angie-harrison/2026-01-31/
LOCATION:44 & King\, 515 44th Ave N.\, Myrtle Beach\, SC\, 29577\, United States
CATEGORIES:Live Music
END:VEVENT
BEGIN:VEVENT
DTSTART;TZID=America/New_York:20260201T173000
DTEND;TZID=America/New_York:20260201T203000
DTSTAMP:20260420T040420
CREATED:20260129T202913Z
LAST-MODIFIED:20260129T204253Z
UID:10001158-1769967000-1769977800@44andking.com
SUMMARY:Sydney Gifford
DESCRIPTION:
URL:https://44andking.com/event/sydney-gifford-3/2026-02-01/
LOCATION:44 & King\, 515 44th Ave N.\, Myrtle Beach\, SC\, 29577\, United States
CATEGORIES:Live Music
END:VEVENT
BEGIN:VEVENT
DTSTART;TZID=America/New_York:20260202T173000
DTEND;TZID=America/New_York:20260202T203000
DTSTAMP:20260420T040420
CREATED:20260129T202817Z
LAST-MODIFIED:20260129T204536Z
UID:10001157-1770053400-1770064200@44andking.com
SUMMARY:Matthew Cockfield
DESCRIPTION:
URL:https://44andking.com/event/matthew-cockfield-3/2026-02-02/
LOCATION:44 & King\, 515 44th Ave N.\, Myrtle Beach\, SC\, 29577\, United States
CATEGORIES:Live Music
END:VEVENT
BEGIN:VEVENT
DTSTART;TZID=America/New_York:20260203T173000
DTEND;TZID=America/New_York:20260203T203000
DTSTAMP:20260420T040420
CREATED:20260129T203009Z
LAST-MODIFIED:20260129T204358Z
UID:10001159-1770139800-1770150600@44andking.com
SUMMARY:Taniya Boatwright
DESCRIPTION:
URL:https://44andking.com/event/taniya-boatwright-3/2026-02-03/
LOCATION:44 & King\, 515 44th Ave N.\, Myrtle Beach\, SC\, 29577\, United States
CATEGORIES:Live Music
END:VEVENT
BEGIN:VEVENT
DTSTART;TZID=America/New_York:20260204T173000
DTEND;TZID=America/New_York:20260204T203000
DTSTAMP:20260420T040420
CREATED:20260129T203032Z
LAST-MODIFIED:20260129T204628Z
UID:10001160-1770226200-1770237000@44andking.com
SUMMARY:Kevin Shiels
DESCRIPTION:
URL:https://44andking.com/event/kevin-shiels-2/2026-02-04/
LOCATION:44 & King\, 515 44th Ave N.\, Myrtle Beach\, SC\, 29577\, United States
CATEGORIES:Live Music
END:VEVENT
BEGIN:VEVENT
DTSTART;TZID=America/New_York:20260206T173000
DTEND;TZID=America/New_York:20260206T203000
DTSTAMP:20260420T040420
CREATED:20260129T203103Z
LAST-MODIFIED:20260129T204645Z
UID:10001161-1770399000-1770409800@44andking.com
SUMMARY:Wayne Cockfield
DESCRIPTION:
URL:https://44andking.com/event/wayne-cockfield-2/2026-02-06/
LOCATION:44 & King\, 515 44th Ave N.\, Myrtle Beach\, SC\, 29577\, United States
CATEGORIES:Live Music
END:VEVENT
BEGIN:VEVENT
DTSTART;TZID=America/New_York:20260207T173000
DTEND;TZID=America/New_York:20260207T203000
DTSTAMP:20260420T040420
CREATED:20260129T203131Z
LAST-MODIFIED:20260129T204723Z
UID:10001162-1770485400-1770496200@44andking.com
SUMMARY:Angie Harrison
DESCRIPTION:
URL:https://44andking.com/event/angie-harrison-2/2026-02-07/
LOCATION:44 & King\, 515 44th Ave N.\, Myrtle Beach\, SC\, 29577\, United States
CATEGORIES:Live Music
END:VEVENT
BEGIN:VEVENT
DTSTART;TZID=America/New_York:20260208T173000
DTEND;TZID=America/New_York:20260208T203000
DTSTAMP:20260420T040420
CREATED:20260129T202913Z
LAST-MODIFIED:20260129T204253Z
UID:10001165-1770571800-1770582600@44andking.com
SUMMARY:Sydney Gifford
DESCRIPTION:
URL:https://44andking.com/event/sydney-gifford-3/2026-02-08/
LOCATION:44 & King\, 515 44th Ave N.\, Myrtle Beach\, SC\, 29577\, United States
CATEGORIES:Live Music
END:VEVENT
BEGIN:VEVENT
DTSTART;TZID=America/New_York:20260209T173000
DTEND;TZID=America/New_York:20260209T203000
DTSTAMP:20260420T040420
CREATED:20260129T203249Z
LAST-MODIFIED:20260129T204709Z
UID:10001163-1770658200-1770669000@44andking.com
SUMMARY:Millie Davis
DESCRIPTION:
URL:https://44andking.com/event/millie-davis-2/2026-02-09/
LOCATION:44 & King\, 515 44th Ave N.\, Myrtle Beach\, SC\, 29577\, United States
CATEGORIES:Live Music
END:VEVENT
BEGIN:VEVENT
DTSTART;TZID=America/New_York:20260210T173000
DTEND;TZID=America/New_York:20260210T203000
DTSTAMP:20260420T040420
CREATED:20260129T203009Z
LAST-MODIFIED:20260129T204358Z
UID:10001169-1770744600-1770755400@44andking.com
SUMMARY:Taniya Boatwright
DESCRIPTION:
URL:https://44andking.com/event/taniya-boatwright-3/2026-02-10/
LOCATION:44 & King\, 515 44th Ave N.\, Myrtle Beach\, SC\, 29577\, United States
CATEGORIES:Live Music
END:VEVENT
BEGIN:VEVENT
DTSTART;TZID=America/New_York:20260211T173000
DTEND;TZID=America/New_York:20260211T203000
DTSTAMP:20260420T040420
CREATED:20260129T203032Z
LAST-MODIFIED:20260129T204628Z
UID:10001174-1770831000-1770841800@44andking.com
SUMMARY:Kevin Shiels
DESCRIPTION:
URL:https://44andking.com/event/kevin-shiels-2/2026-02-11/
LOCATION:44 & King\, 515 44th Ave N.\, Myrtle Beach\, SC\, 29577\, United States
CATEGORIES:Live Music
END:VEVENT
BEGIN:VEVENT
DTSTART;TZID=America/New_York:20260213T173000
DTEND;TZID=America/New_York:20260213T203000
DTSTAMP:20260420T040420
CREATED:20260129T203103Z
LAST-MODIFIED:20260129T204645Z
UID:10001177-1771003800-1771014600@44andking.com
SUMMARY:Wayne Cockfield
DESCRIPTION:
URL:https://44andking.com/event/wayne-cockfield-2/2026-02-13/
LOCATION:44 & King\, 515 44th Ave N.\, Myrtle Beach\, SC\, 29577\, United States
CATEGORIES:Live Music
END:VEVENT
BEGIN:VEVENT
DTSTART;TZID=America/New_York:20260214T173000
DTEND;TZID=America/New_York:20260214T203000
DTSTAMP:20260420T040420
CREATED:20260129T202913Z
LAST-MODIFIED:20260129T204253Z
UID:10001166-1771090200-1771101000@44andking.com
SUMMARY:Sydney Gifford
DESCRIPTION:
URL:https://44andking.com/event/sydney-gifford-3/2026-02-14/
LOCATION:44 & King\, 515 44th Ave N.\, Myrtle Beach\, SC\, 29577\, United States
CATEGORIES:Live Music
END:VEVENT
BEGIN:VEVENT
DTSTART;TZID=America/New_York:20260215T173000
DTEND;TZID=America/New_York:20260215T203000
DTSTAMP:20260420T040420
CREATED:20260129T202913Z
LAST-MODIFIED:20260129T204253Z
UID:10001167-1771176600-1771187400@44andking.com
SUMMARY:Sydney Gifford
DESCRIPTION:
URL:https://44andking.com/event/sydney-gifford-3/2026-02-15/
LOCATION:44 & King\, 515 44th Ave N.\, Myrtle Beach\, SC\, 29577\, United States
CATEGORIES:Live Music
END:VEVENT
BEGIN:VEVENT
DTSTART;TZID=America/New_York:20260216T173000
DTEND;TZID=America/New_York:20260216T203000
DTSTAMP:20260420T040420
CREATED:20260129T202817Z
LAST-MODIFIED:20260129T204536Z
UID:10001172-1771263000-1771273800@44andking.com
SUMMARY:Matthew Cockfield
DESCRIPTION:
URL:https://44andking.com/event/matthew-cockfield-3/2026-02-16/
LOCATION:44 & King\, 515 44th Ave N.\, Myrtle Beach\, SC\, 29577\, United States
CATEGORIES:Live Music
END:VEVENT
BEGIN:VEVENT
DTSTART;TZID=America/New_York:20260217T173000
DTEND;TZID=America/New_York:20260217T203000
DTSTAMP:20260420T040420
CREATED:20260129T203009Z
LAST-MODIFIED:20260129T204358Z
UID:10001170-1771349400-1771360200@44andking.com
SUMMARY:Taniya Boatwright
DESCRIPTION:
URL:https://44andking.com/event/taniya-boatwright-3/2026-02-17/
LOCATION:44 & King\, 515 44th Ave N.\, Myrtle Beach\, SC\, 29577\, United States
CATEGORIES:Live Music
END:VEVENT
BEGIN:VEVENT
DTSTART;TZID=America/New_York:20260218T173000
DTEND;TZID=America/New_York:20260218T203000
DTSTAMP:20260420T040420
CREATED:20260129T203032Z
LAST-MODIFIED:20260129T204628Z
UID:10001175-1771435800-1771446600@44andking.com
SUMMARY:Kevin Shiels
DESCRIPTION:
URL:https://44andking.com/event/kevin-shiels-2/2026-02-18/
LOCATION:44 & King\, 515 44th Ave N.\, Myrtle Beach\, SC\, 29577\, United States
CATEGORIES:Live Music
END:VEVENT
BEGIN:VEVENT
DTSTART;TZID=America/New_York:20260220T173000
DTEND;TZID=America/New_York:20260220T203000
DTSTAMP:20260420T040420
CREATED:20260129T203103Z
LAST-MODIFIED:20260129T204645Z
UID:10001178-1771608600-1771619400@44andking.com
SUMMARY:Wayne Cockfield
DESCRIPTION:
URL:https://44andking.com/event/wayne-cockfield-2/2026-02-20/
LOCATION:44 & King\, 515 44th Ave N.\, Myrtle Beach\, SC\, 29577\, United States
CATEGORIES:Live Music
END:VEVENT
BEGIN:VEVENT
DTSTART;TZID=America/New_York:20260221T173000
DTEND;TZID=America/New_York:20260221T203000
DTSTAMP:20260420T040420
CREATED:20260129T203249Z
LAST-MODIFIED:20260129T204709Z
UID:10001180-1771695000-1771705800@44andking.com
SUMMARY:Millie Davis
DESCRIPTION:
URL:https://44andking.com/event/millie-davis-2/2026-02-21/
LOCATION:44 & King\, 515 44th Ave N.\, Myrtle Beach\, SC\, 29577\, United States
CATEGORIES:Live Music
END:VEVENT
BEGIN:VEVENT
DTSTART;TZID=America/New_York:20260222T173000
DTEND;TZID=America/New_York:20260222T203000
DTSTAMP:20260420T040420
CREATED:20260129T202913Z
LAST-MODIFIED:20260129T204253Z
UID:10001168-1771781400-1771792200@44andking.com
SUMMARY:Sydney Gifford
DESCRIPTION:
URL:https://44andking.com/event/sydney-gifford-3/2026-02-22/
LOCATION:44 & King\, 515 44th Ave N.\, Myrtle Beach\, SC\, 29577\, United States
CATEGORIES:Live Music
END:VEVENT
BEGIN:VEVENT
DTSTART;TZID=America/New_York:20260223T173000
DTEND;TZID=America/New_York:20260223T203000
DTSTAMP:20260420T040420
CREATED:20260129T202817Z
LAST-MODIFIED:20260129T204536Z
UID:10001173-1771867800-1771878600@44andking.com
SUMMARY:Matthew Cockfield
DESCRIPTION:
URL:https://44andking.com/event/matthew-cockfield-3/2026-02-23/
LOCATION:44 & King\, 515 44th Ave N.\, Myrtle Beach\, SC\, 29577\, United States
CATEGORIES:Live Music
END:VEVENT
END:VCALENDAR