BEGIN:VCALENDAR
VERSION:2.0
PRODID:-// - ECPv6.15.20//NONSGML v1.0//EN
CALSCALE:GREGORIAN
METHOD:PUBLISH
X-ORIGINAL-URL:https://44andking.com
X-WR-CALDESC:Events for 
REFRESH-INTERVAL;VALUE=DURATION:PT1H
X-Robots-Tag:noindex
X-PUBLISHED-TTL:PT1H
BEGIN:VTIMEZONE
TZID:America/New_York
BEGIN:DAYLIGHT
TZOFFSETFROM:-0500
TZOFFSETTO:-0400
TZNAME:EDT
DTSTART:20230312T070000
END:DAYLIGHT
BEGIN:STANDARD
TZOFFSETFROM:-0400
TZOFFSETTO:-0500
TZNAME:EST
DTSTART:20231105T060000
END:STANDARD
BEGIN:DAYLIGHT
TZOFFSETFROM:-0500
TZOFFSETTO:-0400
TZNAME:EDT
DTSTART:20240310T070000
END:DAYLIGHT
BEGIN:STANDARD
TZOFFSETFROM:-0400
TZOFFSETTO:-0500
TZNAME:EST
DTSTART:20241103T060000
END:STANDARD
BEGIN:DAYLIGHT
TZOFFSETFROM:-0500
TZOFFSETTO:-0400
TZNAME:EDT
DTSTART:20250309T070000
END:DAYLIGHT
BEGIN:STANDARD
TZOFFSETFROM:-0400
TZOFFSETTO:-0500
TZNAME:EST
DTSTART:20251102T060000
END:STANDARD
BEGIN:DAYLIGHT
TZOFFSETFROM:-0500
TZOFFSETTO:-0400
TZNAME:EDT
DTSTART:20260308T070000
END:DAYLIGHT
BEGIN:STANDARD
TZOFFSETFROM:-0400
TZOFFSETTO:-0500
TZNAME:EST
DTSTART:20261101T060000
END:STANDARD
BEGIN:DAYLIGHT
TZOFFSETFROM:-0500
TZOFFSETTO:-0400
TZNAME:EDT
DTSTART:20270314T070000
END:DAYLIGHT
BEGIN:STANDARD
TZOFFSETFROM:-0400
TZOFFSETTO:-0500
TZNAME:EST
DTSTART:20271107T060000
END:STANDARD
END:VTIMEZONE
BEGIN:VEVENT
DTSTART;TZID=America/New_York:20240615T180000
DTEND;TZID=America/New_York:20240615T210000
DTSTAMP:20260423T074648
CREATED:20240522T174722Z
LAST-MODIFIED:20240522T174722Z
UID:10000379-1718474400-1718485200@44andking.com
SUMMARY:Drew Jacobs
DESCRIPTION:
URL:https://44andking.com/event/drew-jacobs-4/2024-06-15/
LOCATION:44 & King\, 515 44th Ave N.\, Myrtle Beach\, SC\, 29577\, United States
CATEGORIES:Live Music
END:VEVENT
BEGIN:VEVENT
DTSTART;TZID=America/New_York:20240622T180000
DTEND;TZID=America/New_York:20240622T210000
DTSTAMP:20260423T074648
CREATED:20240522T174722Z
LAST-MODIFIED:20240522T174722Z
UID:10000380-1719079200-1719090000@44andking.com
SUMMARY:Drew Jacobs
DESCRIPTION:
URL:https://44andking.com/event/drew-jacobs-4/2024-06-22/
LOCATION:44 & King\, 515 44th Ave N.\, Myrtle Beach\, SC\, 29577\, United States
CATEGORIES:Live Music
END:VEVENT
BEGIN:VEVENT
DTSTART;TZID=America/New_York:20240629T180000
DTEND;TZID=America/New_York:20240629T210000
DTSTAMP:20260423T074648
CREATED:20240516T133104Z
LAST-MODIFIED:20240522T174328Z
UID:10000368-1719684000-1719694800@44andking.com
SUMMARY:Jeff Thomas
DESCRIPTION:
URL:https://44andking.com/event/jeff-thomas-7/2024-06-29/
LOCATION:44 & King\, 515 44th Ave N.\, Myrtle Beach\, SC\, 29577\, United States
CATEGORIES:Live Music
END:VEVENT
BEGIN:VEVENT
DTSTART;TZID=America/New_York:20240712T180000
DTEND;TZID=America/New_York:20240712T210000
DTSTAMP:20260423T074648
CREATED:20240522T174837Z
LAST-MODIFIED:20240522T174837Z
UID:10000384-1720807200-1720818000@44andking.com
SUMMARY:Brian Roessler
DESCRIPTION:
URL:https://44andking.com/event/brian-roessler/2024-07-12/
LOCATION:44 & King\, 515 44th Ave N.\, Myrtle Beach\, SC\, 29577\, United States
CATEGORIES:Live Music
END:VEVENT
BEGIN:VEVENT
DTSTART;TZID=America/New_York:20240720T180000
DTEND;TZID=America/New_York:20240720T210000
DTSTAMP:20260423T074648
CREATED:20240516T133104Z
LAST-MODIFIED:20240522T174328Z
UID:10000369-1721498400-1721509200@44andking.com
SUMMARY:Jeff Thomas
DESCRIPTION:
URL:https://44andking.com/event/jeff-thomas-7/2024-07-20/
LOCATION:44 & King\, 515 44th Ave N.\, Myrtle Beach\, SC\, 29577\, United States
CATEGORIES:Live Music
END:VEVENT
BEGIN:VEVENT
DTSTART;TZID=America/New_York:20240726T180000
DTEND;TZID=America/New_York:20240726T210000
DTSTAMP:20260423T074648
CREATED:20240522T174837Z
LAST-MODIFIED:20240522T174837Z
UID:10000385-1722016800-1722027600@44andking.com
SUMMARY:Brian Roessler
DESCRIPTION:
URL:https://44andking.com/event/brian-roessler/2024-07-26/
LOCATION:44 & King\, 515 44th Ave N.\, Myrtle Beach\, SC\, 29577\, United States
CATEGORIES:Live Music
END:VEVENT
BEGIN:VEVENT
DTSTART;TZID=America/New_York:20240727T180000
DTEND;TZID=America/New_York:20240727T210000
DTSTAMP:20260423T074648
CREATED:20240522T174722Z
LAST-MODIFIED:20240522T174722Z
UID:10000381-1722103200-1722114000@44andking.com
SUMMARY:Drew Jacobs
DESCRIPTION:
URL:https://44andking.com/event/drew-jacobs-4/2024-07-27/
LOCATION:44 & King\, 515 44th Ave N.\, Myrtle Beach\, SC\, 29577\, United States
CATEGORIES:Live Music
END:VEVENT
BEGIN:VEVENT
DTSTART;TZID=America/New_York:20240803T180000
DTEND;TZID=America/New_York:20240803T210000
DTSTAMP:20260423T074648
CREATED:20240516T133104Z
LAST-MODIFIED:20240522T174328Z
UID:10000370-1722708000-1722718800@44andking.com
SUMMARY:Jeff Thomas
DESCRIPTION:
URL:https://44andking.com/event/jeff-thomas-7/2024-08-03/
LOCATION:44 & King\, 515 44th Ave N.\, Myrtle Beach\, SC\, 29577\, United States
CATEGORIES:Live Music
END:VEVENT
BEGIN:VEVENT
DTSTART;TZID=America/New_York:20240810T180000
DTEND;TZID=America/New_York:20240810T210000
DTSTAMP:20260423T074648
CREATED:20240522T174722Z
LAST-MODIFIED:20240522T174722Z
UID:10000382-1723312800-1723323600@44andking.com
SUMMARY:Drew Jacobs
DESCRIPTION:
URL:https://44andking.com/event/drew-jacobs-4/2024-08-10/
LOCATION:44 & King\, 515 44th Ave N.\, Myrtle Beach\, SC\, 29577\, United States
CATEGORIES:Live Music
END:VEVENT
BEGIN:VEVENT
DTSTART;TZID=America/New_York:20240816T180000
DTEND;TZID=America/New_York:20240816T210000
DTSTAMP:20260423T074648
CREATED:20240522T174837Z
LAST-MODIFIED:20240522T174837Z
UID:10000386-1723831200-1723842000@44andking.com
SUMMARY:Brian Roessler
DESCRIPTION:
URL:https://44andking.com/event/brian-roessler/2024-08-16/
LOCATION:44 & King\, 515 44th Ave N.\, Myrtle Beach\, SC\, 29577\, United States
CATEGORIES:Live Music
END:VEVENT
BEGIN:VEVENT
DTSTART;TZID=America/New_York:20240817T180000
DTEND;TZID=America/New_York:20240817T210000
DTSTAMP:20260423T074648
CREATED:20240516T133104Z
LAST-MODIFIED:20240522T174328Z
UID:10000371-1723917600-1723928400@44andking.com
SUMMARY:Jeff Thomas
DESCRIPTION:
URL:https://44andking.com/event/jeff-thomas-7/2024-08-17/
LOCATION:44 & King\, 515 44th Ave N.\, Myrtle Beach\, SC\, 29577\, United States
CATEGORIES:Live Music
END:VEVENT
BEGIN:VEVENT
DTSTART;TZID=America/New_York:20240830T180000
DTEND;TZID=America/New_York:20240830T210000
DTSTAMP:20260423T074648
CREATED:20240522T174837Z
LAST-MODIFIED:20240522T174837Z
UID:10000387-1725040800-1725051600@44andking.com
SUMMARY:Brian Roessler
DESCRIPTION:
URL:https://44andking.com/event/brian-roessler/2024-08-30/
LOCATION:44 & King\, 515 44th Ave N.\, Myrtle Beach\, SC\, 29577\, United States
CATEGORIES:Live Music
END:VEVENT
BEGIN:VEVENT
DTSTART;TZID=America/New_York:20240831T180000
DTEND;TZID=America/New_York:20240831T210000
DTSTAMP:20260423T074648
CREATED:20240522T174722Z
LAST-MODIFIED:20240522T174722Z
UID:10000383-1725127200-1725138000@44andking.com
SUMMARY:Drew Jacobs
DESCRIPTION:
URL:https://44andking.com/event/drew-jacobs-4/2024-08-31/
LOCATION:44 & King\, 515 44th Ave N.\, Myrtle Beach\, SC\, 29577\, United States
CATEGORIES:Live Music
END:VEVENT
BEGIN:VEVENT
DTSTART;TZID=America/New_York:20250306T173000
DTEND;TZID=America/New_York:20250306T203000
DTSTAMP:20260423T074648
CREATED:20250226T160148Z
LAST-MODIFIED:20250324T204942Z
UID:10000554-1741282200-1741293000@44andking.com
SUMMARY:Ansley Gaffney & Band
DESCRIPTION:
URL:https://44andking.com/event/ansley-gaffney-band/2025-03-06/
LOCATION:44 & King\, 515 44th Ave N.\, Myrtle Beach\, SC\, 29577\, United States
CATEGORIES:Live Music
END:VEVENT
BEGIN:VEVENT
DTSTART;TZID=America/New_York:20250313T173000
DTEND;TZID=America/New_York:20250313T203000
DTSTAMP:20260423T074648
CREATED:20250226T160148Z
LAST-MODIFIED:20250324T204942Z
UID:10000555-1741887000-1741897800@44andking.com
SUMMARY:Ansley Gaffney & Band
DESCRIPTION:
URL:https://44andking.com/event/ansley-gaffney-band/2025-03-13/
LOCATION:44 & King\, 515 44th Ave N.\, Myrtle Beach\, SC\, 29577\, United States
CATEGORIES:Live Music
END:VEVENT
BEGIN:VEVENT
DTSTART;TZID=America/New_York:20250320T173000
DTEND;TZID=America/New_York:20250320T203000
DTSTAMP:20260423T074648
CREATED:20250226T160148Z
LAST-MODIFIED:20250324T204942Z
UID:10000556-1742491800-1742502600@44andking.com
SUMMARY:Ansley Gaffney & Band
DESCRIPTION:
URL:https://44andking.com/event/ansley-gaffney-band/2025-03-20/
LOCATION:44 & King\, 515 44th Ave N.\, Myrtle Beach\, SC\, 29577\, United States
CATEGORIES:Live Music
END:VEVENT
BEGIN:VEVENT
DTSTART;TZID=America/New_York:20250327T173000
DTEND;TZID=America/New_York:20250327T203000
DTSTAMP:20260423T074648
CREATED:20250226T160148Z
LAST-MODIFIED:20250324T204942Z
UID:10000557-1743096600-1743107400@44andking.com
SUMMARY:Ansley Gaffney & Band
DESCRIPTION:
URL:https://44andking.com/event/ansley-gaffney-band/2025-03-27/
LOCATION:44 & King\, 515 44th Ave N.\, Myrtle Beach\, SC\, 29577\, United States
CATEGORIES:Live Music
END:VEVENT
BEGIN:VEVENT
DTSTART;TZID=America/New_York:20250408T173000
DTEND;TZID=America/New_York:20250408T190000
DTSTAMP:20260423T074648
CREATED:20250319T200348Z
LAST-MODIFIED:20250319T200348Z
UID:10000898-1744133400-1744138800@44andking.com
SUMMARY:Long Bay Theater - Romeo + Juliet
DESCRIPTION:Long Bay Theater presents their rendition of Romeo + Juliet right in the 44 & King Courtyard!  \nJoin us for dinner on April 8th. Show begins at 5:30pm.
URL:https://44andking.com/event/long-bay-theater-romeo-juliet/
LOCATION:44 & King\, 515 44th Ave N.\, Myrtle Beach\, SC\, 29577\, United States
CATEGORIES:Event
END:VEVENT
BEGIN:VEVENT
DTSTART;TZID=America/New_York:20251208T173000
DTEND;TZID=America/New_York:20251208T203000
DTSTAMP:20260423T074648
CREATED:20251208T182544Z
LAST-MODIFIED:20251208T182612Z
UID:10000981-1765215000-1765225800@44andking.com
SUMMARY:Sydney Gifford
DESCRIPTION:
URL:https://44andking.com/event/sydney-gifford/2025-12-08/
LOCATION:44 & King\, 515 44th Ave N.\, Myrtle Beach\, SC\, 29577\, United States
CATEGORIES:Live Music
END:VEVENT
BEGIN:VEVENT
DTSTART;TZID=America/New_York:20251209T173000
DTEND;TZID=America/New_York:20251209T203000
DTSTAMP:20260423T074648
CREATED:20251208T182641Z
LAST-MODIFIED:20251208T182641Z
UID:10000984-1765301400-1765312200@44andking.com
SUMMARY:Taniya Boatwright
DESCRIPTION:
URL:https://44andking.com/event/taniya-boatwright/
LOCATION:SC
CATEGORIES:Live Music
END:VEVENT
BEGIN:VEVENT
DTSTART;TZID=America/New_York:20251210T173000
DTEND;TZID=America/New_York:20251210T203000
DTSTAMP:20260423T074648
CREATED:20251208T182715Z
LAST-MODIFIED:20251208T182715Z
UID:10000985-1765387800-1765398600@44andking.com
SUMMARY:Wayne Cockfield
DESCRIPTION:
URL:https://44andking.com/event/wayne-cockfield/
LOCATION:44 & King\, 515 44th Ave N.\, Myrtle Beach\, SC\, 29577\, United States
CATEGORIES:Live Music
END:VEVENT
BEGIN:VEVENT
DTSTART;VALUE=DATE:20251211
DTEND;VALUE=DATE:20251212
DTSTAMP:20260423T074648
CREATED:20251202T194102Z
LAST-MODIFIED:20251202T194102Z
UID:10000979-1765411200-1765497599@44andking.com
SUMMARY:CLOSED for a Private Event
DESCRIPTION:
URL:https://44andking.com/event/closed-for-a-private-event/2025-12-11/
LOCATION:44 & King\, 515 44th Ave N.\, Myrtle Beach\, SC\, 29577\, United States
END:VEVENT
BEGIN:VEVENT
DTSTART;TZID=America/New_York:20251212T173000
DTEND;TZID=America/New_York:20251212T203000
DTSTAMP:20260423T074648
CREATED:20251208T182747Z
LAST-MODIFIED:20251208T182747Z
UID:10000986-1765560600-1765571400@44andking.com
SUMMARY:Matthew Cockfield
DESCRIPTION:
URL:https://44andking.com/event/matthew-cockfield/
LOCATION:44 & King\, 515 44th Ave N.\, Myrtle Beach\, SC\, 29577\, United States
CATEGORIES:Live Music
END:VEVENT
BEGIN:VEVENT
DTSTART;TZID=America/New_York:20251213T173000
DTEND;TZID=America/New_York:20251213T203000
DTSTAMP:20260423T074648
CREATED:20251208T182544Z
LAST-MODIFIED:20251208T182612Z
UID:10000983-1765647000-1765657800@44andking.com
SUMMARY:Sydney Gifford
DESCRIPTION:
URL:https://44andking.com/event/sydney-gifford/2025-12-13/
LOCATION:44 & King\, 515 44th Ave N.\, Myrtle Beach\, SC\, 29577\, United States
CATEGORIES:Live Music
END:VEVENT
BEGIN:VEVENT
DTSTART;VALUE=DATE:20251214
DTEND;VALUE=DATE:20251215
DTSTAMP:20260423T074648
CREATED:20251202T194102Z
LAST-MODIFIED:20251202T194102Z
UID:10000980-1765702800-1765755000@44andking.com
SUMMARY:CLOSED for a Private Event
DESCRIPTION:
URL:https://44andking.com/event/closed-for-a-private-event/2025-12-14/
LOCATION:44 & King\, 515 44th Ave N.\, Myrtle Beach\, SC\, 29577\, United States
END:VEVENT
BEGIN:VEVENT
DTSTART;TZID=America/New_York:20251215T173000
DTEND;TZID=America/New_York:20251215T203000
DTSTAMP:20260423T074648
CREATED:20251208T182544Z
LAST-MODIFIED:20251208T182612Z
UID:10000982-1765819800-1765830600@44andking.com
SUMMARY:Sydney Gifford
DESCRIPTION:
URL:https://44andking.com/event/sydney-gifford/2025-12-15/
LOCATION:44 & King\, 515 44th Ave N.\, Myrtle Beach\, SC\, 29577\, United States
CATEGORIES:Live Music
END:VEVENT
BEGIN:VEVENT
DTSTART;TZID=America/New_York:20260116T173000
DTEND;TZID=America/New_York:20260116T203000
DTSTAMP:20260423T074648
CREATED:20260113T191457Z
LAST-MODIFIED:20260113T191457Z
UID:10001149-1768584600-1768595400@44andking.com
SUMMARY:Sydney Gifford
DESCRIPTION:
URL:https://44andking.com/event/sydney-gifford-2/2026-01-16/
LOCATION:44 & King\, 515 44th Ave N.\, Myrtle Beach\, SC\, 29577\, United States
CATEGORIES:Live Music
END:VEVENT
BEGIN:VEVENT
DTSTART;TZID=America/New_York:20260117T173000
DTEND;TZID=America/New_York:20260117T203000
DTSTAMP:20260423T074648
CREATED:20260113T191658Z
LAST-MODIFIED:20260113T191658Z
UID:10001155-1768671000-1768681800@44andking.com
SUMMARY:Angie Harrison
DESCRIPTION:
URL:https://44andking.com/event/angie-harrison/2026-01-17/
LOCATION:44 & King\, 515 44th Ave N.\, Myrtle Beach\, SC\, 29577\, United States
CATEGORIES:Live Music
END:VEVENT
BEGIN:VEVENT
DTSTART;TZID=America/New_York:20260118T173000
DTEND;TZID=America/New_York:20260118T203000
DTSTAMP:20260423T074648
CREATED:20260113T191457Z
LAST-MODIFIED:20260113T191457Z
UID:10001150-1768757400-1768768200@44andking.com
SUMMARY:Sydney Gifford
DESCRIPTION:
URL:https://44andking.com/event/sydney-gifford-2/2026-01-18/
LOCATION:44 & King\, 515 44th Ave N.\, Myrtle Beach\, SC\, 29577\, United States
CATEGORIES:Live Music
END:VEVENT
BEGIN:VEVENT
DTSTART;TZID=America/New_York:20260120T173000
DTEND;TZID=America/New_York:20260120T203000
DTSTAMP:20260423T074648
CREATED:20260113T190636Z
LAST-MODIFIED:20260113T191558Z
UID:10000987-1768930200-1768941000@44andking.com
SUMMARY:Taniya Boatwright
DESCRIPTION:
URL:https://44andking.com/event/taniya-boatwright-2/2026-01-20/
LOCATION:44 & King\, 515 44th Ave N.\, Myrtle Beach\, SC\, 29577\, United States
CATEGORIES:Live Music
END:VEVENT
END:VCALENDAR